BEGIN:VCALENDAR
VERSION:2.0
PRODID:-//Plone.org//NONSGML plone.app.event//EN
X-WR-TIMEZONE:Europe/Vienna
BEGIN:VEVENT
SUMMARY:Lernberichtsgespräche 1. KG (Termine nach Vereinbarung mit dem Kl
 assenteam)
DTSTART;VALUE=DATE:20260411
DTEND;VALUE=DATE:20260601
DTSTAMP;VALUE=DATE-TIME:20260420T074844Z
UID:68597dbdcbb940d79ef79874a7f57313@127.0.0.1:10150
CREATED;VALUE=DATE-TIME:20250818T080927Z
LAST-MODIFIED;VALUE=DATE-TIME:20250818T080931Z
URL:https://www.schule-hintergaerten.ch/termine/lernberichtsgespraeche-1-k
 g-termine-nach-vereinbarung-mit-dem-klassenteam
END:VEVENT
BEGIN:VEVENT
SUMMARY:Anmeldefenster für freiwillige Aufnahmeprüfung Sekundarschule (6
 . Klassen)
DTSTART;VALUE=DATE:20260420
DTEND;VALUE=DATE:20260516
DTSTAMP;VALUE=DATE-TIME:20260420T074844Z
UID:842208c9d2d9429ebfc81889383c7ee3@127.0.0.1:10150
CREATED;VALUE=DATE-TIME:20250818T081020Z
LAST-MODIFIED;VALUE=DATE-TIME:20250818T081023Z
URL:https://www.schule-hintergaerten.ch/termine/anmeldefenster-fuer-freiwi
 llige-aufnahmepruefung-sekundarschule-6-klassen
END:VEVENT
END:VCALENDAR
